BEGIN:VCALENDAR
VERSION:2.0
PRODID:-//Agrupació del Bestiari Festiu i Popular de Catalunya - ECPv4.5.3//NONSGML v1.0//EN
CALSCALE:GREGORIAN
METHOD:PUBLISH
X-WR-CALNAME:Agrupació del Bestiari Festiu i Popular de Catalunya
X-ORIGINAL-URL:https://www.bestiari.cat
X-WR-CALDESC:Events for Agrupació del Bestiari Festiu i Popular de Catalunya
BEGIN:VEVENT
DTSTART;TZID=UTC+1:20250912T210000
DTEND;TZID=UTC+1:20250916T143000
DTSTAMP:20260419T232241
CREATED:20250907T151114Z
LAST-MODIFIED:20250907T151138Z
UID:27493-1757710800-1758033000@www.bestiari.cat
SUMMARY:Santa Tecla 2025 amb el Drac
DESCRIPTION:Santa Tecla 2025 amb el Drac\n\nArriba Santa Tecla 2025 i enguany\, el Drac i el Drac Petit de Sant Roc de Tarragona celebren el seu 40è i 25è aniversari respectivament. Us deixem els actes del 12\, 13 i 14 de setembre:\n\n \tDivendres 12 de setembre | 21h \n\nEls Voladors de Santa Tecla \n\n \tDiumenge 14 de setembre | 20h \n\nCorrefoc 40è Aniversari - Drac de Sant Roc\n\n9 bèsties convidades. Es desenvoluparà pel casc antic de Tarragona:\n\nRecorregut: Plaça de la Font\, C/ Cós del Bou\, Baixada Peixateria\, C/ Hermenegild\, Plaça del Rei\, C/ Santa Anna\, Plaça del Forum\, C/ Merceria\, Plaça de les Cols\, C/ Major\, Baixada Misericòrdia i Plaça de la Font\n\n4 enceses: C/ Cós del Bou\, Plaça del Rei\, Plaça de les Cols i Plaça de la Font\n\nEncesa conjunta de les 10 bèsties: Plaça de la Font\n\n \tDimarts 16 de setembre | Matí | Tarragona \n\nEl Drac de Sant Roc a l'Escola PAX
URL:https://www.bestiari.cat/esdeveniment/santa-tecla-2025-amb-el-drac/
LOCATION:Tarragona\, 43007 \, Espanya
CATEGORIES:Activitats associats,El Camp-Conca-Priorat,Territorials
END:VEVENT
END:VCALENDAR