BEGIN:VCALENDAR
VERSION:2.0
PRODID:-//Agrupació del Bestiari Festiu i Popular de Catalunya - ECPv4.5.3//NONSGML v1.0//EN
CALSCALE:GREGORIAN
METHOD:PUBLISH
X-WR-CALNAME:Agrupació del Bestiari Festiu i Popular de Catalunya
X-ORIGINAL-URL:https://www.bestiari.cat
X-WR-CALDESC:Events for Agrupació del Bestiari Festiu i Popular de Catalunya
BEGIN:VEVENT
DTSTART;TZID=UTC+1:20191109T183000
DTEND;TZID=UTC+1:20191109T200000
DTSTAMP:20260420T005627
CREATED:20191106T103123Z
LAST-MODIFIED:20191106T103123Z
UID:5728-1573324200-1573329600@www.bestiari.cat
SUMMARY:Seguici de bèsties a Peralada (Girona)
DESCRIPTION:El cap de setmana del 9 i el 10 de novembre el municipi de Peralada (Girona) celebra la Festa Major de Sant Martí. Dissabte a la tarda\, a partir de les 18.30 h\, començarà una cercavila des de l'Avinguda principal que acabarà amb un espectacle final a la Plaça Gran. Les colles participants són: la Cigonya de Peralada\, la Mulassa de Mollet i el Drac de Figueres.\n\nPrograma d'actes dissabte 9 de novembre:\n\n11 h: Ruta literària "Què us diré Ramon Muntaner i Peralada" (Preu 5 €\, inscripció prèvia: 972 53 88 40)\n\n12 h: Elecció del pubillatge de Peralada 2019 a la Sala Miquel Mateu del Centre Social Sant Domènec\n\n17 h: Animació infantil amb Jordi Tonietti & Cia al Centre Social.\n\n18.30 h: Seguici de bèsties amb la Cigonya de Peralada\, la Mulassa de Mollet i el Drac de Figueres. Inici de la cercavila al Centre Social i espectacle final a la Plaça Gran.\n\n22.30 h: Nit de monòlegs amb Edu Mutante al Centre Social (Entrada 5 €).\n\n 
URL:https://www.bestiari.cat/esdeveniment/seguici-de-besties-a-peralada-girona/
CATEGORIES:Altres activitats,Girona-Catalunya Nord i L'Hérault
ATTACH;FMTTYPE=image/jpeg:https://www.bestiari.cat/wp-content/uploads/2019/11/Cigonya-de-Peralada.jpg
END:VEVENT
END:VCALENDAR