BEGIN:VCALENDAR
VERSION:2.0
PRODID:-//Agrupació del Bestiari Festiu i Popular de Catalunya - ECPv4.5.3//NONSGML v1.0//EN
CALSCALE:GREGORIAN
METHOD:PUBLISH
X-WR-CALNAME:Agrupació del Bestiari Festiu i Popular de Catalunya
X-ORIGINAL-URL:https://www.bestiari.cat
X-WR-CALDESC:Events for Agrupació del Bestiari Festiu i Popular de Catalunya
BEGIN:VEVENT
DTSTART;TZID=UTC+1:20190331T190000
DTEND;TZID=UTC+1:20190331T200000
DTSTAMP:20260419T214416
CREATED:20190227T080205Z
LAST-MODIFIED:20190227T080425Z
UID:4826-1554058800-1554062400@www.bestiari.cat
SUMMARY:Seguici de cultura popular a les festes de Magdalena
DESCRIPTION:Diumenge 31 de març\n\n19:00\nSEGUICI DE CULTURA POPULAR\nA l'avinguda Rei en Jaume\, amb la participació del bestiari de Botafocs del Grau: Drac\, Víbria\, Bestiari Infantil i l'Haca Traca Almalafa.\n\nMés informació sobre les festes de Magdalena: www.fiestasdelamagdalena.com
URL:https://www.bestiari.cat/esdeveniment/seguici-de-cultura-popular-a-les-festes-de-magdalena/
LOCATION:Avinguda Rei en Jaume\, Castelló de la Plana\, Castelló\, 120001
CATEGORIES:Activitats associats,País Valencià
ATTACH;FMTTYPE=image/jpeg:https://www.bestiari.cat/wp-content/uploads/2019/02/Fiestas_Magdalena.jpg
END:VEVENT
END:VCALENDAR