BEGIN:VCALENDAR
VERSION:2.0
PRODID:-//Agrupació del Bestiari Festiu i Popular de Catalunya - ECPv4.5.3//NONSGML v1.0//EN
CALSCALE:GREGORIAN
METHOD:PUBLISH
X-WR-CALNAME:Agrupació del Bestiari Festiu i Popular de Catalunya
X-ORIGINAL-URL:https://www.bestiari.cat
X-WR-CALDESC:Events for Agrupació del Bestiari Festiu i Popular de Catalunya
BEGIN:VEVENT
DTSTART;TZID=UTC+1:20250811T213000
DTEND;TZID=UTC+1:20250811T233000
DTSTAMP:20260419T183549
CREATED:20250808T171334Z
LAST-MODIFIED:20250808T171334Z
UID:27316-1754947800-1754955000@www.bestiari.cat
SUMMARY:Setmana Cultural a Tragó de Segre
DESCRIPTION:Setmana Cultural a Tragó de Segre\n\nUn any més\, l'AFiCT organitza la Setmana Cultural de Tragó\, enguany la XVa.  En aquest conglomerat d'activitats culturals sempre hi té el seu espai el bestiari festiu.\n\nEnguany\, dilluns 11 d'agost a les 21.30 h a la Plaça d'Estudi de Tragó de Segre\, el drac Asparrac farà el seu ball de protocol\, algunes enceses i una mica d'espectacle pirotècnic. No us ho perdeu!
URL:https://www.bestiari.cat/esdeveniment/setmana-cultural-a-trago-de-segre/
CATEGORIES:Activitats associats,Terres de Ponent-Alt Pirineu,Territorials
ORGANIZER;CN="Associaci%C3%B3%20Festiva%20i%20Cultural%20de%20Trag%C3%B3":MAILTO:info@afict.cat
END:VEVENT
END:VCALENDAR