BEGIN:VCALENDAR
VERSION:2.0
PRODID:-//Agrupació del Bestiari Festiu i Popular de Catalunya - ECPv4.5.3//NONSGML v1.0//EN
CALSCALE:GREGORIAN
METHOD:PUBLISH
X-WR-CALNAME:Agrupació del Bestiari Festiu i Popular de Catalunya
X-ORIGINAL-URL:https://www.bestiari.cat
X-WR-CALDESC:Events for Agrupació del Bestiari Festiu i Popular de Catalunya
BEGIN:VEVENT
DTSTART;TZID=UTC+1:20260425T200000
DTEND;TZID=UTC+1:20260425T223000
DTSTAMP:20260422T184615
CREATED:20260422T140350Z
LAST-MODIFIED:20260422T140350Z
UID:28619-1777147200-1777156200@www.bestiari.cat
SUMMARY:Tabalada + Correfoc Infantil a Perafort
DESCRIPTION:Tabalada + Correfoc Infantil a Perafort\n\nDissabte 25 d'abril a les 20h a Perafort\, us espera... Tabalada + Correfoc Infantil! A les Escoles Velles.\n\n
URL:https://www.bestiari.cat/esdeveniment/tabalada-correfoc-infantil-a-perafort/
LOCATION:43152 \, Espanya
CATEGORIES:Activitats associats,El Camp-Conca-Priorat,Territorials
END:VEVENT
END:VCALENDAR