BEGIN:VCALENDAR
VERSION:2.0
PRODID:-//Agrupació del Bestiari Festiu i Popular de Catalunya - ECPv4.5.3//NONSGML v1.0//EN
CALSCALE:GREGORIAN
METHOD:PUBLISH
X-WR-CALNAME:Agrupació del Bestiari Festiu i Popular de Catalunya
X-ORIGINAL-URL:https://www.bestiari.cat
X-WR-CALDESC:Events for Agrupació del Bestiari Festiu i Popular de Catalunya
BEGIN:VEVENT
DTSTART;TZID=UTC+1:20191130T173000
DTEND;TZID=UTC+1:20191130T190000
DTSTAMP:20260419T232130
CREATED:20191126T160944Z
LAST-MODIFIED:20191126T161426Z
UID:6266-1575135000-1575140400@www.bestiari.cat
SUMMARY:Taller Infantil Diabòlic
DESCRIPTION:Els Bestialots Espurnats de la Sagrada Família han preparat per aquest dissabte 30 de novembre un taller dirigit als infants. Sota el nom "Taller infantil diabòlic"\, a les 17.30 hores als Jardins de la Indústria començarà una activitat en què els monitors vestiran els infants de diables i els pintaran la cara. Després compartiran amb aquests diables de la Sagrada Família l'experiència del foc.\n\n 
URL:https://www.bestiari.cat/esdeveniment/taller-infantil-diabolic/
LOCATION:Jardins de la Indústria\, Barcelona\, Barcelona\, 08030\, Espanya
CATEGORIES:Altres activitats,Barcelona Ciutat
ATTACH;FMTTYPE=image/jpeg:https://www.bestiari.cat/wp-content/uploads/2019/11/bestialots-espurnalots.jpg
END:VEVENT
END:VCALENDAR