BEGIN:VCALENDAR
VERSION:2.0
PRODID:-//Agrupació del Bestiari Festiu i Popular de Catalunya - ECPv4.5.3//NONSGML v1.0//EN
CALSCALE:GREGORIAN
METHOD:PUBLISH
X-WR-CALNAME:Agrupació del Bestiari Festiu i Popular de Catalunya
X-ORIGINAL-URL:https://www.bestiari.cat
X-WR-CALDESC:Events for Agrupació del Bestiari Festiu i Popular de Catalunya
BEGIN:VEVENT
DTSTART;TZID=UTC+1:20210612T103000
DTEND;TZID=UTC+1:20210612T110000
DTSTAMP:20260421T051146
CREATED:20210610T112740Z
LAST-MODIFIED:20210610T122715Z
UID:14693-1623493800-1623495600@www.bestiari.cat
SUMMARY:Tastet de dansa
DESCRIPTION:El Tastet de dansa és una activitat per ballar una estona infants i famílies que organitza l'Esbart Català de Dansaires abans de la sessió de titelles que es realitza a La Casa dels Entremesos.\n\nL'activitat és gratuïta i no necessita inscripció prèvia. Es farà al pati de la Casa dels Entremesos.
URL:https://www.bestiari.cat/esdeveniment/tastet-de-dansa/
LOCATION:Plaça de les Beates\, 2\, Barcelona\, Barcelona\, 08010\, Espanya
CATEGORIES:Altres activitats,Barcelona Ciutat
ATTACH;FMTTYPE=image/jpeg:https://www.bestiari.cat/wp-content/uploads/2021/06/0ae585bfd18a8dd2f9a0b7f1a4c7b06f.jpg
END:VEVENT
END:VCALENDAR