BEGIN:VCALENDAR
VERSION:2.0
PRODID:-//Agrupació del Bestiari Festiu i Popular de Catalunya - ECPv4.5.3//NONSGML v1.0//EN
CALSCALE:GREGORIAN
METHOD:PUBLISH
X-WR-CALNAME:Agrupació del Bestiari Festiu i Popular de Catalunya
X-ORIGINAL-URL:https://www.bestiari.cat
X-WR-CALDESC:Events for Agrupació del Bestiari Festiu i Popular de Catalunya
BEGIN:VEVENT
DTSTART;TZID=UTC+1:20251101T113000
DTEND;TZID=UTC+1:20251101T130000
DTSTAMP:20260419T183508
CREATED:20251028T164323Z
LAST-MODIFIED:20251028T164323Z
UID:27841-1761996600-1762002000@www.bestiari.cat
SUMMARY:Titelles amb la Mula Baba a Girona
DESCRIPTION:Titelles amb la Mula Baba a Girona\n\nDissabte 1 de Novembre\, en el marc de les Fires de Sant Narcís 2025\, la Mula Baba de Girona farà una passejada per la plaça Celestina Vigneaux i després la representació de la llegenda de Sant Narcís al teatret de la Mula Baba. A les 11.30h.\n\n
URL:https://www.bestiari.cat/esdeveniment/titelles-amb-la-mula-baba-a-girona/
LOCATION:Girona\, Espanya
CATEGORIES:Activitats associats,Girona-Catalunya Nord i L'Hérault,Territorials
END:VEVENT
END:VCALENDAR