BEGIN:VCALENDAR
VERSION:2.0
PRODID:-//Agrupació del Bestiari Festiu i Popular de Catalunya - ECPv4.5.3//NONSGML v1.0//EN
CALSCALE:GREGORIAN
METHOD:PUBLISH
X-WR-CALNAME:Agrupació del Bestiari Festiu i Popular de Catalunya
X-ORIGINAL-URL:https://www.bestiari.cat
X-WR-CALDESC:Events for Agrupació del Bestiari Festiu i Popular de Catalunya
BEGIN:VEVENT
DTSTART;TZID=UTC+1:20181117T180000
DTEND;TZID=UTC+1:20181117T200000
DTSTAMP:20260419T214238
CREATED:20181107T104209Z
LAST-MODIFIED:20181107T104601Z
UID:4412-1542477600-1542484800@www.bestiari.cat
SUMMARY:"Totes i tots poden participar en Botafocs"
DESCRIPTION:Jornada de portes obertes.\n\nInformació\, tallers\, jocs\, cabuts\, bestiari\, percussió\, dimonis...
URL:https://www.bestiari.cat/esdeveniment/totes-i-tots-poden-participar-en-botafocs/
LOCATION:Plaça de les Aules\, Castelló de la Plana\, Castelló\, Espanya
CATEGORIES:Activitats associats,País Valencià
ATTACH;FMTTYPE=image/jpeg:https://www.bestiari.cat/wp-content/uploads/2018/11/Botafocs_CARTELL_Portes-obertes.jpg
END:VEVENT
END:VCALENDAR