BEGIN:VCALENDAR
VERSION:2.0
PRODID:-//Agrupació del Bestiari Festiu i Popular de Catalunya - ECPv4.5.3//NONSGML v1.0//EN
CALSCALE:GREGORIAN
METHOD:PUBLISH
X-WR-CALNAME:Agrupació del Bestiari Festiu i Popular de Catalunya
X-ORIGINAL-URL:https://www.bestiari.cat
X-WR-CALDESC:Events for Agrupació del Bestiari Festiu i Popular de Catalunya
BEGIN:VEVENT
DTSTART;VALUE=DATE:20180610
DTEND;VALUE=DATE:20180610
DTSTAMP:20260420T033144
CREATED:20180508T060201Z
LAST-MODIFIED:20180508T060201Z
UID:3719-1528588800-1528675199@www.bestiari.cat
SUMMARY:Trobada de Bestiari a Castelló
DESCRIPTION:
URL:https://www.bestiari.cat/esdeveniment/trobada-de-bestiari-a-castello/
CATEGORIES:Activitats associats,Activitats pròpies,País Valencià
END:VEVENT
END:VCALENDAR