BEGIN:VCALENDAR
VERSION:2.0
PRODID:-//Agrupació del Bestiari Festiu i Popular de Catalunya - ECPv4.5.3//NONSGML v1.0//EN
CALSCALE:GREGORIAN
METHOD:PUBLISH
X-WR-CALNAME:Agrupació del Bestiari Festiu i Popular de Catalunya
X-ORIGINAL-URL:https://www.bestiari.cat
X-WR-CALDESC:Events for Agrupació del Bestiari Festiu i Popular de Catalunya
BEGIN:VEVENT
DTSTART;TZID=UTC+1:20191123T101500
DTEND;TZID=UTC+1:20191123T140000
DTSTAMP:20260420T004016
CREATED:20191121T115826Z
LAST-MODIFIED:20191121T115826Z
UID:6067-1574504100-1574517600@www.bestiari.cat
SUMMARY:Trobada de bèsties i gegants al barri de Sant Pere\, Santa Caterina i la Ribera de Barcelona
DESCRIPTION:La Víbria de Barcelona\, la petita Àliga de la plaça Nova i l'Arpella del barri Gòtic participaran aquest dissabte 23 de novembre en una trobada de gegants i bèsties. Ara fa tres anys que s'organitza aquesta trobada al barri de Sant Pere\, Santa Caterina i la Ribera. Com que pel seguici de Sant Pere la colla dels gegants de Sant Pere de les Puel·les només podien convidar una altra associació\, van decidir impulsar un acte a part en el qual poguessin participar diferents figures.\n\nL'acte de dissabte també comptarà amb la presència dels Gegants petits del Pi\, els Gegants del Raval\, els de la Barceloneta\, els del Casc Antic\, els de Sant Jaume Apòstol\, els del carrer de la Princesa i els de Sant Pere de les Puel·les\, que són: Pere II el Gran\, Constança de Sicília i els gegantons Alfons el Franc i Isabel de Portugal.\n\nPrograma d'actes: \n\n10.15 h: Plantada de gegants a la plaça de Sant Pere.\n\n11.45 h: Cercavila de bèsties i gegants. El recorregut passarà per diversos carrers de la Ribera i\, cap al migdia\, arribarà davant del mercat de Sant Caterina. Allà es faran els balls finals.\n\n(Foto: Els gegants de Sant Pere de les Puel·les en una cercavila / Font: Colla de gegants de Sant Pere de les Puel·les)
URL:https://www.bestiari.cat/esdeveniment/trobada-de-besties-i-gegants-al-barri-de-sant-pere-santa-caterina-i-la-ribera-de-barcelona/
LOCATION:plaça de Sant Pere\, Barcelona \, Barcelona\, 08003\, Espanya
CATEGORIES:Altres activitats,Barcelona Ciutat
ATTACH;FMTTYPE=image/jpeg:https://www.bestiari.cat/wp-content/uploads/2019/11/Gegants-de-Sant-Pere-de-les-Puel·les.jpg
END:VEVENT
END:VCALENDAR