BEGIN:VCALENDAR
VERSION:2.0
PRODID:-//Agrupació del Bestiari Festiu i Popular de Catalunya - ECPv4.5.3//NONSGML v1.0//EN
CALSCALE:GREGORIAN
METHOD:PUBLISH
X-WR-CALNAME:Agrupació del Bestiari Festiu i Popular de Catalunya
X-ORIGINAL-URL:https://www.bestiari.cat
X-WR-CALDESC:Events for Agrupació del Bestiari Festiu i Popular de Catalunya
BEGIN:VEVENT
DTSTART;TZID=UTC+1:20251018T180000
DTEND;TZID=UTC+1:20251018T235900
DTSTAMP:20260420T044405
CREATED:20251012T153302Z
LAST-MODIFIED:20251012T153302Z
UID:27721-1760810400-1760831940@www.bestiari.cat
SUMMARY:Trobada de DRACS HISTÒRICS del Garraf 50è aniversari Drac d’Olivella
DESCRIPTION:Trobada de DRACS HISTÒRICS del Garraf 50è aniversari Drac d’Olivella\n\nEl pròxim 18 d’octubre a Olivella viuran un acte únic i irrepetible: els dracs originals més antics del Garraf es reuniran junts en una cercavila mai vista fins ara.\n\nNo parlem de les seves rèpliques\, sinó de les peces originals\, autèntics tresors del seu patrimoni festiu\, que tornaran a sortir al carrer en motiu del 50è aniversari del Drac d’Olivella.\n\nUna oportunitat única per veure el bestiari històric del Garraf en una mateixa trobada.\n\n \tEl Drac Nona; 1982 amb referències del 1830 @dracdevilanovailageltru\n \tEl Drac de Ribes de la biblioteca; 1972 @dracderibes\n \tEl Drac de Sitges; 1922 @dracdsitges\n \tEl Drac Tigre de la Geltrú; 1978 @dracdelageltru\n \tI finalment\, el Drac d’Olivella; 1975!\n\nHoraris\n\n \t18:00h plantada a la plaça de l’església\n \t19:00h parlaments\n \t20:00h inici cercavila\n \tNomès acabar\, DJ’s: Dj Cargol - Dj@aka_celes - Dj polette\n\nTindran servei de foodtrucks tota la jornada i barra de begudes muntada per la seva entitat.\n\nUs deixem el cartell i AQUÍ trobareu el teaser de la trobada.\n\nBon Aniversari!\n
URL:https://www.bestiari.cat/esdeveniment/trobada-de-dracs-historics-del-garraf-50e-aniversari-drac-dolivella/
LOCATION:08818 \, Espanya
CATEGORIES:Activitats associats,Penedès-Garraf,Territorials
END:VEVENT
END:VCALENDAR