BEGIN:VCALENDAR
VERSION:2.0
PRODID:-//Agrupació del Bestiari Festiu i Popular de Catalunya - ECPv4.5.3//NONSGML v1.0//EN
CALSCALE:GREGORIAN
METHOD:PUBLISH
X-WR-CALNAME:Agrupació del Bestiari Festiu i Popular de Catalunya
X-ORIGINAL-URL:https://www.bestiari.cat
X-WR-CALDESC:Events for Agrupació del Bestiari Festiu i Popular de Catalunya
BEGIN:VEVENT
DTSTART;TZID=UTC+1:20251025T170000
DTEND;TZID=UTC+1:20251025T220000
DTSTAMP:20260422T084708
CREATED:20251022T162118Z
LAST-MODIFIED:20251022T162118Z
UID:27799-1761411600-1761429600@www.bestiari.cat
SUMMARY:Trobada de Mulasses a Sant Feliu de Llobregat
DESCRIPTION:Trobada de Mulasses a Sant Feliu de Llobregat\n\nEl proper dissabte 25 d’octubre\, amb motiu de la celebració del 30è aniversari de la Mula de Sant Feliu de Llobregat\, rebran al seu poble\, set mulasses vingudes d’arreu de les terres catalanes!\n\nActivitats programades:\n\n \t17:00 h – Plantada de mulasses i xocolatada popular (Jardins del Palau Falguera).\n \t17:15 h – Espectacle de titelles amb Baba Barota\, la mulassa de Girona (Jardins del Palau Falguera).\n \t18:00 h – Inici de la cercavila.\n \t19:30 h – Balls a Plaça (Plaça de la Vila).\n\nMulasses Participants:\n\n \tMulassa La Boja\n \tMulassa de l'Hospitalet\n \tMulassa de Torredembarra\n \tMulassa de Llinars\n \tMulassa de Granollers\n \tMulassa de Verdú\n \tMula Baba\n \tMules de Sant Feliu de Llobregat\n\nBon Aniversari!\n\n
URL:https://www.bestiari.cat/esdeveniment/trobada-de-mulasses-a-sant-feliu-de-llobregat/
LOCATION:08980 \, Espanya
CATEGORIES:Altres activitats,Baix Llobregat i L'Hospitalet,Territorials
END:VEVENT
END:VCALENDAR