BEGIN:VCALENDAR
VERSION:2.0
PRODID:-//Agrupació del Bestiari Festiu i Popular de Catalunya - ECPv4.5.3//NONSGML v1.0//EN
CALSCALE:GREGORIAN
METHOD:PUBLISH
X-WR-CALNAME:Agrupació del Bestiari Festiu i Popular de Catalunya
X-ORIGINAL-URL:https://www.bestiari.cat
X-WR-CALDESC:Events for Agrupació del Bestiari Festiu i Popular de Catalunya
BEGIN:VEVENT
DTSTART;TZID=UTC+1:20251010T180000
DTEND;TZID=UTC+1:20251010T235900
DTSTAMP:20260419T200338
CREATED:20251004T165841Z
LAST-MODIFIED:20251004T165841Z
UID:27677-1760119200-1760140740@www.bestiari.cat
SUMMARY:Trobada del Bestiari del Taller La Gàrgola a Santa Coloma de Queralt
DESCRIPTION:Trobada del Bestiari del Taller La Gàrgola a Santa Coloma de Queralt\n\nLa Gàrgola fa 20 Anys! El proper 10 d’octubre t’esperen a Santa Coloma de Queralt per celebrar-ho.\n\nHan organitzat una trobada de tot el bestiari i la imatgeria que\, de les mans de Xavi Badia\, ha sortit d'aquest taller centrat en la construcció d'imatgeria festiva. L'acte reunirà més de 50 elements festius i gairebé 40 colles\, entitats i associacions.\n\n \t18 h Plantada de la imatgeria\n \t19 h Cercavila sense foc\n \t20 h Cercavila amb bestiari de foc\n \t22.30 h Concurs de ceptrots (a càrrec dels Diables Keresus de Santa Coloma de Queralt)\n\n...i des de les 18 h\, amb música\, festa i servei de barra!\n\nT'hi esperen!\n\n
URL:https://www.bestiari.cat/esdeveniment/trobada-del-bestiari-del-taller-la-gargola-a-santa-coloma-de-queralt/
LOCATION:43420\, Espanya
CATEGORIES:Altres activitats,El Camp-Conca-Priorat,Territorials
ORGANIZER;CN="Taller%20La%20G%C3%A0rgola":MAILTO: lagargola33@gmail.com
END:VEVENT
END:VCALENDAR