BEGIN:VCALENDAR
VERSION:2.0
PRODID:-//Agrupació del Bestiari Festiu i Popular de Catalunya - ECPv4.5.3//NONSGML v1.0//EN
CALSCALE:GREGORIAN
METHOD:PUBLISH
X-WR-CALNAME:Agrupació del Bestiari Festiu i Popular de Catalunya
X-ORIGINAL-URL:https://www.bestiari.cat
X-WR-CALDESC:Events for Agrupació del Bestiari Festiu i Popular de Catalunya
BEGIN:VEVENT
DTSTART;VALUE=DATE:20191005
DTEND;VALUE=DATE:20191005
DTSTAMP:20260419T232240
CREATED:20191008T051735Z
LAST-MODIFIED:20191008T051735Z
UID:5510-1570233600-1570319999@www.bestiari.cat
SUMMARY:V Trobada de Bestiari "Can Roca Crema!"
DESCRIPTION:
URL:https://www.bestiari.cat/esdeveniment/v-trobada-de-bestiari-can-roca-crema/
LOCATION:Plaça de Can Roca\, Terrassa\, Espanya
CATEGORIES:Activitats promogudes,Vallès-Maresme-Barcelonès Nord
ATTACH;FMTTYPE=image/jpeg:https://www.bestiari.cat/wp-content/uploads/2019/10/Cartell.jpg
END:VEVENT
END:VCALENDAR