BEGIN:VCALENDAR
VERSION:2.0
PRODID:-//Agrupació del Bestiari Festiu i Popular de Catalunya - ECPv4.5.3//NONSGML v1.0//EN
CALSCALE:GREGORIAN
METHOD:PUBLISH
X-WR-CALNAME:Agrupació del Bestiari Festiu i Popular de Catalunya
X-ORIGINAL-URL:https://www.bestiari.cat
X-WR-CALDESC:Events for Agrupació del Bestiari Festiu i Popular de Catalunya
BEGIN:VEVENT
DTSTART;TZID=UTC+1:20191124T120000
DTEND;TZID=UTC+1:20191124T180000
DTSTAMP:20260420T005754
CREATED:20191121T101413Z
LAST-MODIFIED:20191121T101413Z
UID:6045-1574596800-1574618400@www.bestiari.cat
SUMMARY:Vermut diabòlic amb els Diables de Ripollet
DESCRIPTION:Música en directe\, tapes a preus populars i festa\, molta festa. Tot això i més és el que ofereixen els Diables de Ripollet amb el Vermut diabòlic que tindrà lloc aquest diumenge 24 de novembre. L'esdeveniment començarà a les 12 del migdia i es farà al Casal de Joves KFTÍ.
URL:https://www.bestiari.cat/esdeveniment/vermut-diabolic-amb-els-diables-de-ripollet/
LOCATION:Rambla de Sant Jordi\, 6\, Ripollet\, Barcelona\, 08291\, Espanya
CATEGORIES:Activitats associats,Vallès-Maresme-Barcelonès Nord
ATTACH;FMTTYPE=image/jpeg:https://www.bestiari.cat/wp-content/uploads/2019/11/vermut-diabòlic.jpg
END:VEVENT
END:VCALENDAR