BEGIN:VCALENDAR
VERSION:2.0
PRODID:-//Agrupació del Bestiari Festiu i Popular de Catalunya - ECPv4.5.3//NONSGML v1.0//EN
CALSCALE:GREGORIAN
METHOD:PUBLISH
X-WR-CALNAME:Agrupació del Bestiari Festiu i Popular de Catalunya
X-ORIGINAL-URL:https://www.bestiari.cat
X-WR-CALDESC:Events for Agrupació del Bestiari Festiu i Popular de Catalunya
BEGIN:VEVENT
DTSTART;TZID=UTC+1:20181103T173000
DTEND;TZID=UTC+1:20181103T220000
DTSTAMP:20260419T214234
CREATED:20181006T081148Z
LAST-MODIFIED:20181006T081148Z
UID:4257-1541266200-1541282400@www.bestiari.cat
SUMMARY:VI Trobada d'amics del Sirius
DESCRIPTION:
URL:https://www.bestiari.cat/esdeveniment/vi-trobada-damics-del-sirius/
LOCATION:Plaça Bella Dorita\, Barcelona\, Espanya
CATEGORIES:Activitats associats,Barcelona Ciutat
ATTACH;FMTTYPE=image/jpeg:https://www.bestiari.cat/wp-content/uploads/2018/10/IMG-20180930-WA0002.jpg
END:VEVENT
END:VCALENDAR