BEGIN:VCALENDAR
VERSION:2.0
PRODID:-//Agrupació del Bestiari Festiu i Popular de Catalunya - ECPv4.5.3//NONSGML v1.0//EN
CALSCALE:GREGORIAN
METHOD:PUBLISH
X-WR-CALNAME:Agrupació del Bestiari Festiu i Popular de Catalunya
X-ORIGINAL-URL:https://www.bestiari.cat
X-WR-CALDESC:Events for Agrupació del Bestiari Festiu i Popular de Catalunya
BEGIN:VEVENT
DTSTART;VALUE=DATE:20180630
DTEND;VALUE=DATE:20180701
DTSTAMP:20260419T200143
CREATED:20180628T164022Z
LAST-MODIFIED:20180628T164022Z
UID:3916-1530316800-1530489599@www.bestiari.cat
SUMMARY:VI Trobada de Dracs i Bèsties de Foc
DESCRIPTION:
URL:https://www.bestiari.cat/esdeveniment/vi-trobada-de-dracs-i-besties-de-foc/
LOCATION:Cervera del Maestre\, Espanya
CATEGORIES:Activitats associats,País Valencià
ATTACH;FMTTYPE=image/jpeg:https://www.bestiari.cat/wp-content/uploads/2018/06/36337536_2079243078985319_4185494326291202048_n.jpg
END:VEVENT
END:VCALENDAR