BEGIN:VCALENDAR
VERSION:2.0
PRODID:-//Agrupació del Bestiari Festiu i Popular de Catalunya - ECPv4.5.3//NONSGML v1.0//EN
CALSCALE:GREGORIAN
METHOD:PUBLISH
X-WR-CALNAME:Agrupació del Bestiari Festiu i Popular de Catalunya
X-ORIGINAL-URL:https://www.bestiari.cat
X-WR-CALDESC:Events for Agrupació del Bestiari Festiu i Popular de Catalunya
BEGIN:VEVENT
DTSTART;TZID=UTC+1:20200124T080000
DTEND;TZID=UTC+1:20200125T170000
DTSTAMP:20260419T214459
CREATED:20200117T173956Z
LAST-MODIFIED:20200117T174816Z
UID:6883-1579852800-1579971600@www.bestiari.cat
SUMMARY:Vine a conèixer el Mamut Venux per la Festa Major de Sant Vicenç dels Horts
DESCRIPTION:(Foto: Encesa del mamut Venux / Font: Facebook Amics del Mamut Venux)\n\nEl divendres 24 i el dissabte 25 de gener se celebra la Festa Major d'Hivern a Sant Vicenç dels Horts. Hi ha programades diferents activitats\, com ara una per conèixer de ben a prop el Mamut Venux.\n\nDivendres 24/01\n\n \t19 h: Trobada d’entitats de cultura popular amb la participació de la Colla de Geganters i Grallers\, la Colla de Diables Àngels Diabòlics i la Colla castellera Carallots. Lloc: plaça de la Vila.\n\nDissabte 25/01\n\n \t10h: Apropa’t al Mamut Venux. Vine a conèixer els Diables. L’activitat finalitza a les 14.30 h. Lloc: c. Nou - c. Ribot\n \t20h: Tabalada i concentració de la Colla de Diables Àngels Diabòlics i del Mamut Venux perquè els infants puguin acostar-s’hi sense por. Lloc: plaça de la Vila.\n \t20.15 h Correfoc a càrrec de la Colla de Diables Àngels Diabòlics i del Mamut Venux i de la colla del Cuc de Molins de Rei. Sortida de la plaça de la Vila; recorregut pels carrers de Rafael Casanova\, Barcelona i Dr. Robert i arribada a la plaça de Narcís Lunes. En arribar a la plaça de Narcís Lunes (21.30 h\, aprox.)\, sarau de foc.\n
URL:https://www.bestiari.cat/esdeveniment/vine-a-coneixer-el-mamut-venux-per-la-festa-major-de-sant-vicenc-dels-horts/
CATEGORIES:Altres activitats,Baix Llobregat i L'Hospitalet
ATTACH;FMTTYPE=image/jpeg:https://www.bestiari.cat/wp-content/uploads/2020/01/32736242_1685901758192007_492911380559560704_n.jpg
END:VEVENT
END:VCALENDAR