BEGIN:VCALENDAR
VERSION:2.0
PRODID:-//Agrupació del Bestiari Festiu i Popular de Catalunya - ECPv4.5.3//NONSGML v1.0//EN
CALSCALE:GREGORIAN
METHOD:PUBLISH
X-WR-CALNAME:Agrupació del Bestiari Festiu i Popular de Catalunya
X-ORIGINAL-URL:https://www.bestiari.cat
X-WR-CALDESC:Events for Agrupació del Bestiari Festiu i Popular de Catalunya
BEGIN:VEVENT
DTSTART;TZID=UTC+1:20180616T193000
DTEND;TZID=UTC+1:20180616T230000
DTSTAMP:20260420T061246
CREATED:20180618T055639Z
LAST-MODIFIED:20180618T055639Z
UID:3852-1529177400-1529190000@www.bestiari.cat
SUMMARY:X Trobada de Bestiari de Calella
DESCRIPTION:Aquest dissabte\, a partir de les 19:30h\, vine a veure la plantada de bèsties de la nostra X Trobada de Bestiari.\n\nI\, a les 22:00h\, sortida de la cercavila de la 10a Trobada de Bestiari. Itinerari: Jovara\, Batlle\, pl. de l’Església\, Bisbe Sivilla i pl. de l’Ajuntament amb ball del bestiari.\n\nParticipació: La Llopa de Calella\, Udols de foc de Calella\, Drac Antonot de Sabadell\, Bitxo del Torrent Mitger de Terrassa\, Boc de Can Vernet de Sant Cugat\, Cuca de Castellbisbal\, Drac Ceballot de Montornés\, Drac El Cabrot del Vendrell\, Gos Cancerber de Canovelles\, Pàjara de Terrassa i Rosegaescrots i la Bruixa Isolda de Cabrera.\n\nT'esperem. SALUT I FOC!!!
URL:https://www.bestiari.cat/esdeveniment/x-trobada-de-bestiari-de-calella/
LOCATION:Calella\, Espanya
CATEGORIES:Activitats associats,Vallès-Maresme-Barcelonès Nord
ATTACH;FMTTYPE=image/jpeg:https://www.bestiari.cat/wp-content/uploads/2018/06/IMG_20180613_091919-1.jpg
END:VEVENT
END:VCALENDAR