BEGIN:VCALENDAR
VERSION:2.0
PRODID:-//Agrupació del Bestiari Festiu i Popular de Catalunya - ECPv4.5.3//NONSGML v1.0//EN
CALSCALE:GREGORIAN
METHOD:PUBLISH
X-WR-CALNAME:Agrupació del Bestiari Festiu i Popular de Catalunya
X-ORIGINAL-URL:https://www.bestiari.cat
X-WR-CALDESC:Events for Agrupació del Bestiari Festiu i Popular de Catalunya
BEGIN:VEVENT
DTSTART;TZID=UTC+1:20190509T200000
DTEND;TZID=UTC+1:20190509T213000
DTSTAMP:20260420T074808
CREATED:20190509T094844Z
LAST-MODIFIED:20190509T095014Z
UID:5064-1557432000-1557437400@www.bestiari.cat
SUMMARY:Xerrada "Sant Isidre a Barcelona\, des del 1623"
DESCRIPTION:L'Associació d'Amics dels Gegants del Pi i l'Arxiu Parroquial de Santa Maria del Pi enceten enguany un cicle de xerrades anomenat "Festes i tradicions a l'arxiu del Pi" que tindrà cinc xerrades al llarg de l'any i que durà a terme l'arxiver de Santa Maria del Pi\, Jordi Sacasas.\n\nLa primera és aquest dijous 9 de maig a les 20h. Sota el títol "Sant Isidre a Barcelona\, des del 1623"\, per primer cop es vol donar a conèixer la rellevància de les celebracions que es van dur a terme a Barcelona amb motiu de l'arribada de les relíquies de Sant Isidre\, amb la participació dels entremesos festius. Tot plegat\, lligat a les relacions entre la Cort de Madrid i les autoritats barcelonines a principis del segle XVII.
URL:https://www.bestiari.cat/esdeveniment/xerrada-sant-isidre-a-barcelona-des-del-1623/
LOCATION:Plaça de les Beates\, 2\, Barcelona\, Barcelona\, 08010\, Espanya
CATEGORIES:Activitats associats,Barcelona Ciutat
ATTACH;FMTTYPE=image/jpeg:https://www.bestiari.cat/wp-content/uploads/2019/05/Sant-Isidre-a-BCN.jpg
END:VEVENT
END:VCALENDAR