BEGIN:VCALENDAR
VERSION:2.0
PRODID:-//Agrupació del Bestiari Festiu i Popular de Catalunya - ECPv4.5.3//NONSGML v1.0//EN
CALSCALE:GREGORIAN
METHOD:PUBLISH
X-WR-CALNAME:Agrupació del Bestiari Festiu i Popular de Catalunya
X-ORIGINAL-URL:https://www.bestiari.cat
X-WR-CALDESC:Events for Agrupació del Bestiari Festiu i Popular de Catalunya
BEGIN:VEVENT
DTSTART;TZID=UTC+1:20180609T170000
DTEND;TZID=UTC+1:20180609T210000
DTSTAMP:20260419T214404
CREATED:20180515T082112Z
LAST-MODIFIED:20180515T082112Z
UID:3747-1528563600-1528578000@www.bestiari.cat
SUMMARY:XIX Trobada de Bèsties de Foc de Castelló de la Plana
DESCRIPTION:
URL:https://www.bestiari.cat/esdeveniment/xix-trobada-de-besties-de-foc-de-castello-de-la-plana/
LOCATION:Plaça Major\, Castelló de la Plana\, Espanya
CATEGORIES:Activitats associats,Activitats pròpies,País Valencià
ATTACH;FMTTYPE=image/jpeg:https://www.bestiari.cat/wp-content/uploads/2018/05/1_Cartell-XIX-TBF_2018.jpg
END:VEVENT
END:VCALENDAR