BEGIN:VCALENDAR
VERSION:2.0
PRODID:-//Agrupació del Bestiari Festiu i Popular de Catalunya - ECPv4.5.3//NONSGML v1.0//EN
CALSCALE:GREGORIAN
METHOD:PUBLISH
X-WR-CALNAME:Agrupació del Bestiari Festiu i Popular de Catalunya
X-ORIGINAL-URL:https://www.bestiari.cat
X-WR-CALDESC:Events for Agrupació del Bestiari Festiu i Popular de Catalunya
BEGIN:VEVENT
DTSTART;TZID=UTC+1:20180421T120000
DTEND;TZID=UTC+1:20180421T235500
DTSTAMP:20260422T084620
CREATED:20180419T132138Z
LAST-MODIFIED:20180419T132138Z
UID:3635-1524312000-1524354900@www.bestiari.cat
SUMMARY:XVIII Aniversari de la Godra - Trobada de bèsties
DESCRIPTION:El ball de diables de Caldes de Montbui organitza una Trobada de Bèsties el proper 21 d'abril de 2018 en motiu del XVIIIè aniversari de la Godra de Caldes.\n\nPrograma d'actes 21/04/2018:\n\n \t12:00h Presentació del llibre XXV anys de vresots del Ball de Diables\n \t16:30h Plantada de Bèsties al Parc de l'Estació\n \t20:00h Tabalada al Parc de l'Estació\n \t20:30h Inici Cercavila\n \t00:00h Concert de "Ron amb Papes" al Parc de l'Estació\n
URL:https://www.bestiari.cat/esdeveniment/xviii-aniversari-de-la-godra-trobada-de-besties/
LOCATION:Parc de l'Estació\, Caldes de Montbui\, Espanya
CATEGORIES:Activitats associats,Vallès-Maresme-Barcelonès Nord
ATTACH;FMTTYPE=image/jpeg:https://www.bestiari.cat/wp-content/uploads/2018/04/WhatsApp-Image-2018-04-17-at-15.30.28.jpeg
END:VEVENT
END:VCALENDAR