BEGIN:VCALENDAR
VERSION:2.0
PRODID:-//Agrupació del Bestiari Festiu i Popular de Catalunya - ECPv4.5.3//NONSGML v1.0//EN
CALSCALE:GREGORIAN
METHOD:PUBLISH
X-WR-CALNAME:Agrupació del Bestiari Festiu i Popular de Catalunya
X-ORIGINAL-URL:https://www.bestiari.cat
X-WR-CALDESC:Events for Agrupació del Bestiari Festiu i Popular de Catalunya
BEGIN:VEVENT
DTSTART;TZID=UTC+1:20171217T100000
DTEND;TZID=UTC+1:20171217T140000
DTSTAMP:20260420T015614
CREATED:20171205T101554Z
LAST-MODIFIED:20171205T103031Z
UID:3174-1513504800-1513519200@www.bestiari.cat
SUMMARY:XXI Mostra de Bestiari de Ploma
DESCRIPTION:Enguany es celebra la vint-i-unena edició de la Mostra de Bestiari Festiu de Ploma\, que aplegarà més de mitja dotzena de figures de bestiari festiu. La mostra s'emmarca en la tradicional Fira del Gall de Vilafranca del Penedès.\nFigures de bestiari festiu participant:\n\n \tÀLIGA DE TÀRREGA I L’EIXIDETA de Tàrrega (Urgell)\n \tFARNACA i FARNAQUETA de Cambrils (Baix Camp)\n \tDUC DE LES ROQUETES\, de Les Roquetes (Garraf)\n \tGAFARRÓ de Premià de Mar (Maresme)\n \tMUSSOLOT DEL CAMPANAR de Vilafranca del Penedès (Alt Penedès)\n \tÀLIGA DEL BARRI SANT JULIÀ I L’ÀLIGA TRAMUNTANA de Vilafranca del Penedès (Alt Penedès)\n \tGALL TOMASOT i GALLINA BALLARICA de Vilafranca del Penedès (Alt Penedès)\n\nPrograma d'actes:\n\n \ta les 10h\, plantada del bestiari\, a la Plaça de la Gastronomia (recinte firal\, Parc de Sant Julià)\n \ta les 11h\, "Porta'm el xumet!"\, la Gallina Ballarica recollirà els xumets dels infants que deixin el costum de xumar i els obsequiarà amb un dolç record.\n \ta les 12h\, cercavila del bestiari festiu de ploma.\n\n \tSortida de la Plaça de la Gastronomia.\n \tRecorregut de la cercavila: avinguda de Catalunya\, carrers d'Hermenegild Clascar i de Sant Bernat\, plaça de Jaume I\, carrer d'Escudellers\, plaça de la Constitució\, carrers de la Parellada\, de la Palma i de Sant Joan\, plaça de Sant Joan i plaça de la Vila.\n\n\n \ta les 13h\, ballades de lluïment a la Plaça de la Vila\n\nPrograma d'actes de la Fira del Gall: http://bit.ly/firadelgall2017\n\n   \n\n 
URL:https://www.bestiari.cat/esdeveniment/xxi-mostra-de-bestiari-de-ploma/
LOCATION:Parc de Sant Julià\, Vilafranca del Penedès\, Espanya
CATEGORIES:Activitats promogudes,Penedès-Garraf
ATTACH;FMTTYPE=image/jpeg:https://www.bestiari.cat/wp-content/uploads/2017/12/ploma17.jpg
END:VEVENT
END:VCALENDAR