BEGIN:VCALENDAR
VERSION:2.0
PRODID:-//Agrupació del Bestiari Festiu i Popular de Catalunya - ECPv4.5.3//NONSGML v1.0//EN
CALSCALE:GREGORIAN
METHOD:PUBLISH
X-WR-CALNAME:Agrupació del Bestiari Festiu i Popular de Catalunya
X-ORIGINAL-URL:https://www.bestiari.cat
X-WR-CALDESC:Events for Agrupació del Bestiari Festiu i Popular de Catalunya
BEGIN:VEVENT
DTSTART;TZID=UTC+1:20250906T170000
DTEND;TZID=UTC+1:20250906T200000
DTSTAMP:20260419T200206
CREATED:20250902T121018Z
LAST-MODIFIED:20250902T140530Z
UID:27443-1757178000-1757188800@www.bestiari.cat
SUMMARY:XXV Trobada de Bèsties de Foc a Vila-real
DESCRIPTION:XXV Trobada de Bèsties de Foc a Vila-real \n\nEl proper 6 de setembre de 2025\, es celebrarà la XXV Trobada de Bèsties de Foc a Vila-real! Els tocs i balls de la cultura popular a la Pl. Major i voltants.\n\n\n\n\n\n \n\n \n\n \n\n \n\n \n\n \n\n \n\n \n\n \n\n17h a 18h - Plantada de Bestiari i mostra musical\n\n18h - 18.15h - Benvinguda i lliurament detalls\n\n18.15h - 18.30h - Tabalada i tocs populars de les entitats\n\n18.30h - 19.15h - Cercavila de figures i músics\n\n19.15h -20h - Ball i espurnes a tot arreu. Remat final\n\n \n\nColles Participants\n\n \tLluert\n\n\n\n \n\n \n\n \n\n \n\n \n\n \tBestiari Infantil Botafocs\n\n\n\n \n\n \n\n \n\n \n\n \n\n \n\n \n\n \tAlcozancos\n\n\n\n \n\n \n\n \n\n \n\n \n\n \tSenglar Murri\n\n\n\n \n\n \n\n \n\n \n\n \n\n \n\n \n\nBona Trobada!\n\nUs deixem el vídeo de l'edició del 2024:\n\nhttps://www.youtube.com/watch?v=MBqxv7Q17iY
URL:https://www.bestiari.cat/esdeveniment/xxv-trobada-de-besties-de-foc-a-vila-real/
LOCATION:12540\, Espanya
CATEGORIES:Activitats associats,País Valencià,Territorials
END:VEVENT
END:VCALENDAR