BEGIN:VCALENDAR
VERSION:2.0
PRODID:-//Agrupació del Bestiari Festiu i Popular de Catalunya - ECPv4.5.3//NONSGML v1.0//EN
CALSCALE:GREGORIAN
METHOD:PUBLISH
X-WR-CALNAME:Agrupació del Bestiari Festiu i Popular de Catalunya
X-ORIGINAL-URL:https://www.bestiari.cat
X-WR-CALDESC:Events for Agrupació del Bestiari Festiu i Popular de Catalunya
BEGIN:VEVENT
DTSTART;TZID=UTC+1:20231217T100000
DTEND;TZID=UTC+1:20231217T190000
DTSTAMP:20260419T183526
CREATED:20231213T154210Z
LAST-MODIFIED:20231213T154210Z
UID:23126-1702807200-1702839600@www.bestiari.cat
SUMMARY:XXVIa Mostra de Bestiari Festiu de Ploma
DESCRIPTION:Amb més de tres-cents anys d’història\, la Fira del Gall torna amb més força que mai. Vilafranca del Penedès es convertirà com cada any en l’epicentre gastronòmic de Catalunya. Una oportunitat única per posar en valor la qualitat del Gall del Penedès amb IGP i tastar-lo amb una gran varietat de receptes mentre es fa un maridatge amb vins de la D.O.Penedès. Activitats per a tota la família\, cultura\, tradicions i artesania per gaudir d'un cap de setmana únic. No us ho podeu perdre.\n\nDes de Bestiari destaque\, la XXVI Mostra de Bestiari Festiu de Ploma amb un munt d'activitats:\n\nA les 10h Plantada del bestiari que participa a la cercavila\nEl Gall Tomasot\, la Gallina Ballarica\, l’Àliga del Barri de Sant Julià i l’Aligueta Tramuntana fan d’amfitrions de les bèsties de ploma convidades: Falcó d’Alcover; El Griu de Barcelona; Gall\, Gallines i Pollets d’Esparreguera i Dracgall de Castellgalí.\n\nA les 11h “PORTA’M EL XUMET!”\nLa Gallina Ballarica recollirà els xumets dels infants que deixin el costum de xumar i els obsequiarà amb un dolç record.\n\nA les 12h SORTIDA DE LA CERCAVILA\nRecorregut cercavila: avinguda de Catalunya\, carrers d’Hermenegild Clascar i de Sant Bernat\, plaça de Jaume I\, carrer d’Escudellers\, plaça de la Constitució\, carrer de la Parellada\, Rambla de Nostra Senyora\, plaça de Llorens i Barba\, carrers de la Palma i de Sant Joan\, plaça de Sant Joan i plaça de la Vila.\n\nA les 14h BALLADES DE LLUÏMENT a la plaça de la Vila\n\nDescobriu aquí totes les activitats de la Fira del Gall\n\n
URL:https://www.bestiari.cat/esdeveniment/xxvia-mostra-de-bestiari-festiu-de-ploma/
CATEGORIES:Activitats associats,Penedès-Garraf,Territorials
END:VEVENT
END:VCALENDAR